BEGIN:VCALENDAR
VERSION:2.0
PRODID:-//Ananda Kolkata - ECPv6.14.2//NONSGML v1.0//EN
CALSCALE:GREGORIAN
METHOD:PUBLISH
X-WR-CALNAME:Ananda Kolkata
X-ORIGINAL-URL:https://anandakolkata.org
X-WR-CALDESC:Events for Ananda Kolkata
REFRESH-INTERVAL;VALUE=DURATION:PT1H
X-Robots-Tag:noindex
X-PUBLISHED-TTL:PT1H
BEGIN:VTIMEZONE
TZID:Asia/Kolkata
BEGIN:STANDARD
TZOFFSETFROM:+0530
TZOFFSETTO:+0530
TZNAME:IST
DTSTART:20240101T000000
END:STANDARD
END:VTIMEZONE
BEGIN:VEVENT
DTSTART;TZID=Asia/Kolkata:20240519T093000
DTEND;TZID=Asia/Kolkata:20240519T130000
DTSTAMP:20260426T085407
CREATED:20240503T093509Z
LAST-MODIFIED:20240518T105518Z
UID:5625-1716111000-1716123600@anandakolkata.org
SUMMARY:Swami Kriyananda's Birthday Celebration
DESCRIPTION:Swami Kriyanandaji Birthday Celebration at Ananda Kolkata Meditation Center \n\nDear Kolkata friends\, we joyfully announce the program dedicated to the birthday anniversary of Swami Kriyananda\, friend and guide\, who founded Ananda in 1968 with the guidance of his Guru\, Paramahansa Yogananda. \nJoin us to celebrate a day dedicated to sharing the teachings that Ananda offers to the whole world. The satsang will be led by Gurupriya and Br. Vasudeva. This will be followed by a breakfast service and a very special event: a free session marking the launch of Ananda Hindi Sangha as part of Ananda Kolkata’s offerings to the city seekers. \n\nMorning Flow: \n\n9:30-10:30am : Swamiji birth anniversary satsang (Br. Vasudeva and Gurupriya); Concluding with an arati and a blessing\n10:30onwards: breakfast break\n11:30am to 1:00pm: launch of Ananda Hindi Sangha as part of Ananda Kolkata’s offerings (Free Session)\n\n\nPlease join us and bless this event. We invite you to bring friends and family\, and we are grateful for you to spread the word. \n\nGuru Kripa Hi Kevalam.  \nJoy in Service\,  \nTeam Ananda Kolkata \n[contact-form][contact-field label=”Name” type=”name”  required=”true” /][contact-field label=”Email” type=”email” required=”true” /][contact-field label=”Website” type=”url” /][contact-field label=”Message” type=”textarea” /][/contact-form]
URL:https://anandakolkata.org/event/swami-kriyanandas-birthday-celebration/
LOCATION:Dover Lane\, Ananda Sangha Kolkata\, 18/31 Dover Lane\, Kolkata\, West Bengal\, 700029\, India
CATEGORIES:Satsang
ATTACH;FMTTYPE=image/jpeg:https://anandakolkata.org/wp-content/uploads/2022/11/swami_seated.jpg
ORGANIZER;CN="Ananda Sangha Kolkata":MAILTO:kolkata@anandaindia.org
END:VEVENT
BEGIN:VEVENT
DTSTART;TZID=Asia/Kolkata:20250130T163000
DTEND;TZID=Asia/Kolkata:20250130T203000
DTSTAMP:20260426T085407
CREATED:20250130T153942Z
LAST-MODIFIED:20250130T153942Z
UID:6303-1738254600-1738269000@anandakolkata.org
SUMMARY:Thursday Satsang
DESCRIPTION:At Ananda Sangha Kolkata\, we dedicate Thursday evenings to going deep in meditation and attuning ourselves to Master’s and Swamiji’s wisdom. The magnetism of group meditation has the power to help us go deeper in our practice. The center will be open from 4:30 pm onwards\, with the schedule as shown in the picture above*.  \nDuring the evening Satsang (7:30 – 8:30 PM)\, we meditate\, share wisdom from the book Living Wisely\, Living Well by Swami Kriyananda\, and create a space to discuss spiritual topics. \n\nThe Satsang will also be shared online for those who cannot attend in person. It starts at 7:30 PM. ️ \nHere is the link for this evening’s Satsang:\nJoin Zoom Meeting](https://us06web.zoom.us/j/85168891854?pwd=1IKlnT9OwbwFwaK9ri80nbABPYHiHO.1 \nMeeting ID: 851 6889 1854\nPasscode: AUM \n*The schedule may vary due to upcoming or unforeseen necessities. To stay updated\, connect with us!
URL:https://anandakolkata.org/event/thursday-evening-satsang/
LOCATION:Dover Lane\, Ananda Sangha Kolkata\, 18/31 Dover Lane\, Kolkata\, West Bengal\, 700029\, India
CATEGORIES:Satsang
ATTACH;FMTTYPE=image/jpeg:https://anandakolkata.org/wp-content/uploads/2025/01/WhatsApp-Image-2025-01-30-at-03.08.32.jpeg
ORGANIZER;CN="Ananda Sangha Kolkata":MAILTO:kolkata@anandaindia.org
END:VEVENT
BEGIN:VEVENT
DTSTART;TZID=Asia/Kolkata:20250216T100000
DTEND;TZID=Asia/Kolkata:20250216T110000
DTSTAMP:20260426T085407
CREATED:20250208T094306Z
LAST-MODIFIED:20250214T113140Z
UID:6311-1739700000-1739703600@anandakolkata.org
SUMMARY:In Conversation with Nayaswamis Jyotishji and Deviji
DESCRIPTION:Jai Guru friends\, \nAnanda Kolkata is all set to bring to everyone in Feb\, the next In Conversation with Nayaswamis Jyotishji and Deviji. \nHere are the details – \nTopic – Discipleship as a Dynamic Channel of the Light\nDay and Date – Sunday\, 16th Feb\n10:00 am – 11:00 am IST – Satsang \nHere is a zoom link details: \nhttps://us06web.zoom.us/j/89052945160?pwd=PQsQVopbRCjY0gNwB5lLHodpPN9odw.1 \nMeeting ID: 890 5294 5160\nPasscode: AUM \nHere is the Facebook Live: https://www.facebook.com/anandakolkata/live \nWe are so looking forward to seeing everyone of you there\, please join us ❤️
URL:https://anandakolkata.org/event/in-conversation-with-nayaswamis-jyotishji-and-deviji/
LOCATION:Online Zoom Event
CATEGORIES:Satsang
ATTACH;FMTTYPE=image/png:https://anandakolkata.org/wp-content/uploads/2025/02/In-conversation-with-n.-Jyotish-and-Devi-1.png
ORGANIZER;CN="Ananda Sangha Kolkata":MAILTO:kolkata@anandaindia.org
END:VEVENT
BEGIN:VEVENT
DTSTART;TZID=Asia/Kolkata:20250622T103000
DTEND;TZID=Asia/Kolkata:20250622T183000
DTSTAMP:20260426T085407
CREATED:20250612T144455Z
LAST-MODIFIED:20250612T144514Z
UID:6684-1750588200-1750617000@anandakolkata.org
SUMMARY:YogAnanda Fest: Celebrating International Day of Yoga
DESCRIPTION:‍Join Us for a Transformational One-Day Event: The YogANANDA Fest!\nCelebrating International Yoga Day: An Ananda Kolkata Offering \nStep into a sanctuary of peace\, balance\, and inner joy as we come together to celebrate Yoga Day with a full-day immersion in the timeless science of yoga. \nSchedule for the day:\n10:30am – 11:15am – Talk by Nayaswami Devarshi ji (Head of Ananda Worldwide Kriya Sangha)\, Topic: Kriya Yoga Lineage and Path (zoom)\n11:15am – 12:00pm – stall time (In person) and music (online)\n12:00pm – 12:45pm – Ananda Yoga Session by Latha Gupta (Director\, Ananda Yoga School of India\, zoom): Session Pranayaam for Calmness Inner Resilience\n1:00pm – 2:00p: Lunch break and stall time (In person) and music (online)\n2:00pm – 2:40pm – Talk by Acharya Saumya on Education for Life: shaping the consciousness of the future (for working with children)\n3:00pm – 3:45pm – Talk by Acharyas Bharat and Shamini on Spirituality and the arts\n3:45pm – 4:15pm – stall time (In person) and music (online)\n4:15pm – 5:00pm – Talk by Nayaswami Shankara ji on Chakras: The Portals to Infinity (zoom)\n5:00pm – 5:30pm stall time and music for online\n5:30pm – 6:15pm – Health and Healing Talk: Topic : Yoga and Healing (zoom) \, Online closing by Nayaswami Shankara ji and Gurupriya\n6:15pm – 6:30pm – stall time (In person only) \nWhether you’re a beginner or a lifelong practitioner\, this day is for you. Come as you are\, leave uplifted!\nLet’s move\, breathe\, and grow together.\nYoga unites. Yoga transforms. \nMore info here: https://anandakolkata.org/activities/yogananda-fest-celebrating-international-day-of-yoga/ \nOnline and In person
URL:https://anandakolkata.org/event/yogananda-fest-celebrating-international-day-of-yoga/
LOCATION:Dover Lane\, Ananda Sangha Kolkata\, 18/31 Dover Lane\, Kolkata\, West Bengal\, 700029\, India
CATEGORIES:Special Events
ATTACH;FMTTYPE=image/png:https://anandakolkata.org/wp-content/uploads/2025/06/YogAnanda-Fest_final.png
ORGANIZER;CN="Ananda Sangha Kolkata":MAILTO:kolkata@anandaindia.org
END:VEVENT
BEGIN:VEVENT
DTSTART;TZID=Asia/Kolkata:20250719T103000
DTEND;TZID=Asia/Kolkata:20250719T183000
DTSTAMP:20260426T085407
CREATED:20250705T074606Z
LAST-MODIFIED:20250705T074607Z
UID:6787-1752921000-1752949800@anandakolkata.org
SUMMARY:Light of Yogananda
DESCRIPTION:19th July 2025 | 10:30 AM – 6:30 PM \nLocation: Haldiram Food Banquet\nEnergy Exchange: 250/- (access to all day sessions\, lucky draw and book give away) \nMore info\n \nMore info
URL:https://anandakolkata.org/event/light-of-yogananda-event/
LOCATION:Haldiram Food City\, 24\, Ashutosh Chowdary Ave\, Ballygunge Park\, Ballygunge\, Kolkata\, Wes Bengal\, 700019\, India
CATEGORIES:Special Events
ATTACH;FMTTYPE=image/png:https://anandakolkata.org/wp-content/uploads/2025/07/SF_july2025_Flyer_final.png
ORGANIZER;CN="Ananda Sangha Kolkata":MAILTO:kolkata@anandaindia.org
END:VEVENT
BEGIN:VEVENT
DTSTART;TZID=Asia/Kolkata:20251221T100000
DTEND;TZID=Asia/Kolkata:20251221T180000
DTSTAMP:20260426T085407
CREATED:20251217T142054Z
LAST-MODIFIED:20251217T142105Z
UID:10505-1766311200-1766340000@anandakolkata.org
SUMMARY:8 Hours Christmas Meditation
DESCRIPTION:Dear friends… the 8-Hour Christmas Meditation is almost here! \n8 Hour Christmas Meditation\nSunday 21st December 2025 | 10:00 AM to 6:00 PM IST \nANANDA SANGHA KOLKATA\n18/31 Dover Lane\, Ballygunge\, Kolkata 700029. \n\nSome Tips for the Meditation: \n\nPlease do come on time to participate.\nCome for as much as you are able\, leave when you need to at a break or chanting/reading\, that would avoid disturbing anyone around you.\nBe inward\, move as little as possible\, even during the chanting periods.\nChairs are provided or bring your own meditation gear for floor sitting including a shawl or sweater. (Malas\, aum boards\, and earplugs if you use them.)\nDress in comfortable QUIET clothing.\nKeep your mobile phones off or on silent so that we do not disturb other meditators.\n\nAum Guru!
URL:https://anandakolkata.org/event/8-hours-christmas-meditation/
LOCATION:Dover Lane\, Ananda Sangha Kolkata\, 18/31 Dover Lane\, Kolkata\, West Bengal\, 700029\, India
CATEGORIES:Special Events
ATTACH;FMTTYPE=image/jpeg:https://anandakolkata.org/wp-content/uploads/2025/12/WhatsApp-Image-2025-12-17-at-12.57.24.jpeg
ORGANIZER;CN="Ananda Sangha Kolkata":MAILTO:kolkata@anandaindia.org
END:VEVENT
BEGIN:VEVENT
DTSTART;VALUE=DATE:20260102
DTEND;VALUE=DATE:20260106
DTSTAMP:20260426T085407
CREATED:20251206T103413Z
LAST-MODIFIED:20251206T103413Z
UID:10487-1767312000-1767657599@anandakolkata.org
SUMMARY:Master's 133rd Birthday Celebration
DESCRIPTION:      \nMore info
URL:https://anandakolkata.org/event/masters-133rd-birthday-celebration/
LOCATION:West Bengal
CATEGORIES:Special Events
ATTACH;FMTTYPE=image/png:https://anandakolkata.org/wp-content/uploads/2025/10/Masters-birthday-Celebrations-1.png
ORGANIZER;CN="Ananda Sangha Kolkata":MAILTO:kolkata@anandaindia.org
END:VEVENT
END:VCALENDAR