BEGIN:VCALENDAR
VERSION:2.0
PRODID:-//Ananda Kolkata - ECPv6.14.2//NONSGML v1.0//EN
CALSCALE:GREGORIAN
METHOD:PUBLISH
X-WR-CALNAME:Ananda Kolkata
X-ORIGINAL-URL:https://anandakolkata.org
X-WR-CALDESC:Events for Ananda Kolkata
REFRESH-INTERVAL;VALUE=DURATION:PT1H
X-Robots-Tag:noindex
X-PUBLISHED-TTL:PT1H
BEGIN:VTIMEZONE
TZID:Asia/Kolkata
BEGIN:STANDARD
TZOFFSETFROM:+0530
TZOFFSETTO:+0530
TZNAME:IST
DTSTART:20210101T000000
END:STANDARD
END:VTIMEZONE
BEGIN:VEVENT
DTSTART;TZID=Asia/Kolkata:20210926T200000
DTEND;TZID=Asia/Kolkata:20210926T213000
DTSTAMP:20260426T024218
CREATED:20210924T161546Z
LAST-MODIFIED:20210924T161546Z
UID:3362-1632686400-1632691800@anandakolkata.org
SUMMARY:Satsang with Padma Ji & Arnab Ji
DESCRIPTION:Friends: we have Padma ji and Arnab ji ~ the spiritual leaders of Ananda South Bay center in Los Angeles\, for our Sunday Satsang. \nThey are both disciples of Paramahansa Yogananda and found their Guru 25\,000 miles away from their home city of Kolkata through Swami Kriyananda and Ananda in the US. \nSince September is marked by 2 powerful days: the birth anniversary and Mahasamadhi of Lahiri Mahasaya on 30th and 26th Sept respectively: we could not think of a more suitable topic for our gathering this time. \nThis is open for all and we invite all students\, seekers\, Gurubhais\, Kriyabans to join in and receive the spiritual blessings of this Satsang. \nPlease join us. \n\nAnanda Kolkata is inviting you to a scheduled Zoom meeting. \nTopic: Satsang with Padma ji and Arnab ji\nTime: Sep 26\, 2021 08:00 PM India \nJoin Zoom Meeting\nhttps://zoom.us/j/99015276956?pwd=WU1RWGx1cjdQL3ArZFZYSDl2NWJnQT09 \nMeeting ID: 990 1527 6956\nPasscode: AUM
URL:https://anandakolkata.org/event/satsang-with-padma-ji-arnab-ji/
LOCATION:Online Zoom Event
CATEGORIES:Satsang
ATTACH;FMTTYPE=image/jpeg:https://anandakolkata.org/wp-content/uploads/2021/09/Satsang-with-Padma-and-Arnab.jpeg
ORGANIZER;CN="Ananda Sangha Kolkata":MAILTO:kolkata@anandaindia.org
END:VEVENT
END:VCALENDAR