BEGIN:VCALENDAR
VERSION:2.0
PRODID:-//Ananda Kolkata - ECPv6.14.2//NONSGML v1.0//EN
CALSCALE:GREGORIAN
METHOD:PUBLISH
X-ORIGINAL-URL:https://anandakolkata.org
X-WR-CALDESC:Events for Ananda Kolkata
REFRESH-INTERVAL;VALUE=DURATION:PT1H
X-Robots-Tag:noindex
X-PUBLISHED-TTL:PT1H
BEGIN:VTIMEZONE
TZID:Asia/Kolkata
BEGIN:STANDARD
TZOFFSETFROM:+0530
TZOFFSETTO:+0530
TZNAME:IST
DTSTART:20220101T000000
END:STANDARD
END:VTIMEZONE
BEGIN:VEVENT
DTSTART;TZID=Asia/Kolkata:20220109T160000
DTEND;TZID=Asia/Kolkata:20220109T180000
DTSTAMP:20260425T190652
CREATED:20220108T095726Z
LAST-MODIFIED:20220108T101659Z
UID:3653-1641744000-1641751200@anandakolkata.org
SUMMARY:Satsang with Nayaswami Dhyana Ji
DESCRIPTION:Joyous beginnings to 2022! \nDear friends: as we made a blessed entry to 2022 with Master’s birthday celebrations (5th January)\, we hope all of you have been well and in high Spirits! Amidst unfolding fear and stress due to the surge in pandemic cases in Kolkata\, disciples of Paramahansa Yogananda ji and the Masters in the city have strengthened their sadhana\, attunement to Gurus and prayers as well as other sewa activities to fellow brothers and sisters. \nAs we welcome another year in the light of our great guiding lights\, we wish you all a safe and healthy year ahead. Thank you for supporting\, participating\, loving. \nWe have a wonderful session coming up tomorrow with Nayaswami Dhyana ji and this the whole Ananda kolkata community is eagerly looking forward to. Grateful to Master for His Channels of Love and Light. \nJoy to You💗 \nWe invite all of you to participate whole heartedly💖 \nKindly fill up the form below and we will get in touch with you with the details. \n[contact-form][contact-field label=”Name” type=”name” required=”1″][contact-field label=”Email” type=”email” required=”1″][contact-field label=”Phone” type=”text”][contact-field label=”Message” type=”textarea”][/contact-form]
URL:https://anandakolkata.org/event/satsang-with-nayaswami-dhyana-ji-2/
LOCATION:Online Zoom Event
CATEGORIES:Satsang
ATTACH;FMTTYPE=image/jpeg:https://anandakolkata.org/wp-content/uploads/2022/01/Dhyana-Ji-Satsang_09012022.jpeg
ORGANIZER;CN="Ananda Sangha Kolkata":MAILTO:kolkata@anandaindia.org
END:VEVENT
BEGIN:VEVENT
DTSTART;TZID=Asia/Kolkata:20220123T200000
DTEND;TZID=Asia/Kolkata:20220123T210000
DTSTAMP:20260425T190652
CREATED:20220122T081801Z
LAST-MODIFIED:20220122T081835Z
UID:3778-1642968000-1642971600@anandakolkata.org
SUMMARY:Choosing Happiness at Will
DESCRIPTION:Hello Hello Kolkata friends! How feels everyone! \nWe are so looking forward to this Sunday as we have a Satsang with Nayaswami Jaya ji : Co-Spiritual Director of Ananda Sangha India. The topic is “Choosing Happiness at Will” ~ seems like a super power\, no? \nHope to see many soul friends at this much awaited gathering. There will be a QnA at the end of the satsang. \nThis is a FREE session. Please register using the link below and help us make this offering a joyous success! You are invited to a Zoom meeting. \nRegister in advance for this meeting: \n[x_button shape=”square” size=”jumbo” float=”none” href=”https://zoom.us/meeting/register/tJMsf-muqjopHtOJbyJDOChyWXnKyZnk4fVr” title=”Sign Up” info=”none” info_place=”top” info_trigger=”hover”]Sign Up[/x_button] \nAfter registering\, you will receive a confirmation email containing information about joining the meeting. Joy in Service ❤️ Jai Guru ❤️
URL:https://anandakolkata.org/event/3778/
LOCATION:Online Zoom Event
CATEGORIES:Satsang
ATTACH;FMTTYPE=image/jpeg:https://anandakolkata.org/wp-content/uploads/2022/01/Choosing-Happiness-at-Will.jpeg
ORGANIZER;CN="Ananda Sangha Kolkata":MAILTO:kolkata@anandaindia.org
END:VEVENT
END:VCALENDAR